Workbook

Sheet Dades
B1: QUADERN DE SEGUIMENT TUTORIAL
B2: Alumne/a | C2: Dades | D2: Personals
B3: Nom | C3: Cognom 1 | D3: Cognom 2
B5: Data Naixement | C5: Lloc de Naixement | D5: Adreça
B7: Telèfon 1 | C7: Telèfon 2 | D7: email
C9: Dades | D9: Familiars
B10: Pare
B11: Nom | C11: Cognom 1 | D11: Cognom 2
B13: Telèfon 1 | C13: Telèfon 2 | D13: email
B15: Mare
B16: Nom | C16: Cognom 1 | D16: Cognom 2
B18: Telèfon 1 | C18: Telèfon 2 | D18: email
B20: Altre | C20: relació amb l'alumne >
B21: Nom | C21: Cognom 1 | D21: Cognom 2
B23: Telèfon 1 | C23: Telèfon 2 | D23: email
B25: Resum | C25: Dades | D25: Entorn
B26: Relació amb la familia
B27: Relació amb el professorat
B28: Relació amb els companys
B29: Habits d'estudi
B30: Altres
B31: Resum | C31: Dades | D31: Acadèmiques
B32: Curs 2014_15
B33: Curs 2015_16
B34: Curs 2016_17
B35: Curs 2017_18

Sheet  2015_16 Reunions
B1: Dades | C1: Personals
B2: Nom | C2: Cognom 1 | D2: Cognom 2
B3: =Dades!B4 -> 0 | C3: =Dades!C4 -> 0 | D3: =Dades!D4 -> 0
B4: Entrevistes | E4: Equips Docents | F4: Data | G4: Informació
B5: 1 | E5: 1 | F5: 0/0/0
B6: Data | C6: 0/0/0 | E6: =E5+1 -> 2 | F6: 0/0/0
B7: Interlocutor | E7: =E6+1 -> 3 | F7: 0/0/0
B8: Motiu | E8: =E7+1 -> 4 | F8: 0/0/0
B9: Discusions i Acords | E9: =E8+1 -> 5 | F9: 0/0/0
E10: =E9+1 -> 6 | F10: 0/0/0
E11: =E10+1 -> 7 | F11: 0/0/0
E12: =E11+1 -> 8 | F12: 0/0/0
B13: 2 | E13: =E12+1 -> 9 | F13: 0/0/0
B14: Data | C14: 0/0/0 | E14: =E13+1 -> 10 | F14: 0/0/0
B15: Interlocutor | E15: =E14+1 -> 11 | F15: 0/0/0
B16: Motiu | E16: =E15+1 -> 12 | F16: 0/0/0
B17: Discusions i Acords | E17: =E16+1 -> 13 | F17: 0/0/0
E18: =E17+1 -> 14 | F18: 0/0/0
E19: =E18+1 -> 15 | F19: 0/0/0
B21: 3
B22: Data | C22: 0/0/0
B23: Interlocutor
B24: Motiu
B25: Discusions i Acords
B29: 4
B30: Data | C30: 0/0/0
B31: Interlocutor
B32: Motiu
B33: Discusions i Acords
B37: 5
B38: Data | C38: 0/0/0
B39: Interlocutor
B40: Motiu
B41: Discusions i Acords

Sheet 2015_16 Informació
B1: Dades | C1: Personals
B2: Nom | C2: Cognom 1 | D2: Cognom 2
B3: =Dades!B4 -> 0 | C3: =Dades!C4 -> 0 | D3: =Dades!D4 -> 0
B4: Dades | C4: Tutor/a
B5: Nom | C5: Cognom 1 | D5: email
B7: Informacions varies
B8: 1
B9: Data | C9: 0/0/0
B10: Resum
B11: Descripció
B16: 2
B17: Data | C17: 0/0/0
B18: Resum
B19: Descripció
B24: 3
B25: Data | C25: 0/0/0
B26: Resum
B27: Descripció
B32: 4
B33: Data | C33: 0/0/0
B34: Resum
B35: Descripció
B40: 5
B41: Data | C41: 0/0/0
B42: Resum
B43: Descripció

Sheet 2016_17 Reunions
B1: Dades | C1: Personals
B2: Nom | C2: Cognom 1 | D2: Cognom 2
B3: =Dades!B4 -> 0 | C3: =Dades!C4 -> 0 | D3: =Dades!D4 -> 0
B4: Entrevistes | E4: Equips Docents | F4: Data | G4: Informació
B5: 1 | E5: 1 | F5: 0/0/0
B6: Data | C6: 0/0/0 | E6: =E5+1 -> 2 | F6: 0/0/0
B7: Assistents | E7: =E6+1 -> 3 | F7: 0/0/0
B8: Motiu | E8: =E7+1 -> 4 | F8: 0/0/0
B9: Desenvolupament i Acords | E9: =E8+1 -> 5 | F9: 0/0/0
E10: =E9+1 -> 6 | F10: 0/0/0
E11: =E10+1 -> 7 | F11: 0/0/0
E12: =E11+1 -> 8 | F12: 0/0/0
B13: 2 | E13: =E12+1 -> 9 | F13: 0/0/0
B14: Data | C14: 0/0/0 | E14: =E13+1 -> 10 | F14: 0/0/0
B15: Assistents | E15: =E14+1 -> 11 | F15: 0/0/0
B16: Motiu | E16: =E15+1 -> 12 | F16: 0/0/0
B17: Desenvolupament i Acords | E17: =E16+1 -> 13 | F17: 0/0/0
E18: =E17+1 -> 14 | F18: 0/0/0
E19: =E18+1 -> 15 | F19: 0/0/0
B21: 3
B22: Data | C22: 0/0/0
B23: Assistents
B24: Motiu
B25: Desenvolupament i Acords
B29: 4
B30: Data | C30: 0/0/0
B31: Assistents
B32: Motiu
B33: Desenvolupament i Acords
B37: 5
B38: Data | C38: 0/0/0
B39: Assistents
B40: Motiu
B41: Desenvolupament i Acords

Sheet  2016_17 Informació
B1: Dades | C1: Personals
B2: Nom | C2: Cognom 1 | D2: Cognom 2
B3: =Dades!B4 -> 0 | C3: =Dades!C4 -> 0 | D3: =Dades!D4 -> 0
B4: Dades | C4: Tutor/a
B5: Nom | C5: Cognom 1 | D5: email
B7: Informacions varies
B8: 1
B9: Data | C9: 0/0/0
B10: Resum
B11: Descripció
B16: 2
B17: Data | C17: 0/0/0
B18: Resum
B19: Descripció
B24: 3
B25: Data | C25: 0/0/0
B26: Resum
B27: Descripció
B32: 4
B33: Data | C33: 0/0/0
B34: Resum
B35: Descripció
B40: 5
B41: Data | C41: 0/0/0
B42: Resum
B43: Descripció
